Package: DAPARdata Version: 1.36.0 Command: /home/biocbuild/bbs-3.20-bioc/R/bin/R CMD check --install=check:DAPARdata.install-out.txt --library=/home/biocbuild/bbs-3.20-bioc/R/site-library --timings DAPARdata_1.36.0.tar.gz StartedAt: 2025-04-01 11:52:09 -0400 (Tue, 01 Apr 2025) EndedAt: 2025-04-01 11:56:15 -0400 (Tue, 01 Apr 2025) EllapsedTime: 246.3 seconds RetCode: 0 Status: OK CheckDir: DAPARdata.Rcheck Warnings: 0