Package: synaptome.db Version: 0.99.16 Command: /home/biocbuild/bbs-3.20-bioc/R/bin/R CMD check --install=check:synaptome.db.install-out.txt --library=/home/biocbuild/bbs-3.20-bioc/R/site-library --timings synaptome.db_0.99.16.tar.gz StartedAt: 2025-04-02 06:35:43 -0400 (Wed, 02 Apr 2025) EndedAt: 2025-04-02 06:40:54 -0400 (Wed, 02 Apr 2025) EllapsedTime: 311.8 seconds RetCode: 0 Status: WARNINGS CheckDir: synaptome.db.Rcheck Warnings: 1