Package: org.Mxanthus.db Version: 1.0.27 Command: /home/biocbuild/bbs-3.20-bioc/R/bin/R CMD build --keep-empty-dirs --no-resave-data org.Mxanthus.db StartedAt: 2025-04-02 06:32:07 -0400 (Wed, 02 Apr 2025) EndedAt: 2025-04-02 06:32:42 -0400 (Wed, 02 Apr 2025) EllapsedTime: 34.5 seconds RetCode: 0 Status: OK PackageFile: org.Mxanthus.db_1.0.27.tar.gz PackageFileSize: 420.6 KiB