Package: hpAnnot Version: 1.1.0 Command: /home/biocbuild/bbs-3.20-bioc/R/bin/R CMD check --install=check:hpAnnot.install-out.txt --library=/home/biocbuild/bbs-3.20-bioc/R/site-library --timings hpAnnot_1.1.0.tar.gz StartedAt: 2025-04-02 06:34:40 -0400 (Wed, 02 Apr 2025) EndedAt: 2025-04-02 06:35:01 -0400 (Wed, 02 Apr 2025) EllapsedTime: 21.3 seconds RetCode: 1 Status: ERROR CheckDir: hpAnnot.Rcheck Warnings: NA