Package: GenomicState Version: 0.99.15 Command: /home/biocbuild/bbs-3.20-bioc/R/bin/R CMD check --install=check:GenomicState.install-out.txt --library=/home/biocbuild/bbs-3.20-bioc/R/site-library --timings GenomicState_0.99.15.tar.gz StartedAt: 2025-04-02 06:34:38 -0400 (Wed, 02 Apr 2025) EndedAt: 2025-04-02 06:40:50 -0400 (Wed, 02 Apr 2025) EllapsedTime: 371.6 seconds RetCode: 1 Status: ERROR CheckDir: GenomicState.Rcheck Warnings: NA