Package: EpiTxDb.Sc.sacCer3 Version: 0.99.5 Command: /home/biocbuild/bbs-3.20-bioc/R/bin/R CMD check --install=check:EpiTxDb.Sc.sacCer3.install-out.txt --library=/home/biocbuild/bbs-3.20-bioc/R/site-library --timings EpiTxDb.Sc.sacCer3_0.99.5.tar.gz StartedAt: 2025-04-02 06:34:17 -0400 (Wed, 02 Apr 2025) EndedAt: 2025-04-02 06:40:11 -0400 (Wed, 02 Apr 2025) EllapsedTime: 354.6 seconds RetCode: 0 Status: OK CheckDir: EpiTxDb.Sc.sacCer3.Rcheck Warnings: 0