Package: EpiTxDb.Hs.hg38 Version: 0.99.7 Command: /home/biocbuild/bbs-3.20-bioc/R/bin/R CMD check --install=check:EpiTxDb.Hs.hg38.install-out.txt --library=/home/biocbuild/bbs-3.20-bioc/R/site-library --timings EpiTxDb.Hs.hg38_0.99.7.tar.gz StartedAt: 2025-04-02 06:34:15 -0400 (Wed, 02 Apr 2025) EndedAt: 2025-04-02 06:40:18 -0400 (Wed, 02 Apr 2025) EllapsedTime: 362.5 seconds RetCode: 0 Status: OK CheckDir: EpiTxDb.Hs.hg38.Rcheck Warnings: 0