Package: CTCF Version: 0.99.11 Command: /home/biocbuild/bbs-3.20-bioc/R/bin/R CMD check --install=check:CTCF.install-out.txt --library=/home/biocbuild/bbs-3.20-bioc/R/site-library --timings CTCF_0.99.11.tar.gz StartedAt: 2025-04-02 06:34:15 -0400 (Wed, 02 Apr 2025) EndedAt: 2025-04-02 06:35:23 -0400 (Wed, 02 Apr 2025) EllapsedTime: 67.4 seconds RetCode: 0 Status: OK CheckDir: CTCF.Rcheck Warnings: 0