Package: AHMeSHDbs Version: 1.8.0 Command: /home/biocbuild/bbs-3.20-bioc/R/bin/R CMD INSTALL AHMeSHDbs StartedAt: 2025-04-02 06:30:21 -0400 (Wed, 02 Apr 2025) EndedAt: 2025-04-02 06:30:22 -0400 (Wed, 02 Apr 2025) EllapsedTime: 1.4 seconds RetCode: 0 Status: OK