Package: AHLRBaseDbs Version: 1.8.0 Command: /home/biocbuild/bbs-3.20-bioc/R/bin/R CMD build --keep-empty-dirs --no-resave-data AHLRBaseDbs StartedAt: 2025-04-02 06:31:10 -0400 (Wed, 02 Apr 2025) EndedAt: 2025-04-02 06:31:26 -0400 (Wed, 02 Apr 2025) EllapsedTime: 16.1 seconds RetCode: 0 Status: OK PackageFile: AHLRBaseDbs_1.8.0.tar.gz PackageFileSize: 340.4 KiB