| Back to Long Tests report for BioC 3.20 |
This page was generated on 2025-03-29 23:55 -0400 (Sat, 29 Mar 2025).
| QUICK STATS | OS / Arch | CHECK | |||||||
| nebbiolo2 | Linux (Ubuntu 24.04.1 LTS) / x86_64 |
| |||||||
| palomino8 | Windows Server 2022 Datacenter / x64 |
| |||||||
| merida1 | macOS 12.7.5 Monterey / x86_64 |
| |||||||
| Package | Maintainer | CHECK | |||||||
| 1/32 | APAlyzer 1.20.0 (landing page) | Ruijia Wang | ERROR | ||||||
| 2/32 | autonomics 1.14.9 (landing page) | Aditya Bhagwat | ERROR | ||||||
| 3/32 | basilisk 1.18.0 (landing page) | Aaron Lun | OK | ||||||
| 4/32 | beachmat 2.22.0 (landing page) | Aaron Lun | WARNINGS | ||||||
| 5/32 | biodb 1.14.0 (landing page) | Pierrick Roger | ERROR | ||||||
| 6/32 | biodbChebi 1.12.0 (landing page) | Pierrick Roger | OK | ||||||
| 7/32 | Pierrick Roger | ERROR | |||||||
| 8/32 | biodbHmdb 1.12.0 (landing page) | Pierrick Roger | WARNINGS | ||||||
| 9/32 | Pierrick Roger | ERROR | |||||||
| 10/32 | biodbNcbi 1.10.0 (landing page) | Pierrick Roger | WARNINGS | ||||||
| 11/32 | biodbNci 1.10.0 (landing page) | Pierrick Roger | OK | ||||||
| 12/32 | biodbUniprot 1.12.0 (landing page) | Pierrick Roger | OK | ||||||
| 13/32 | cBioPortalData 2.18.2 (landing page) | Marcel Ramos | OK | ||||||
| 14/32 | ChromSCape 1.16.0 (landing page) | Pacome Prompsy | ERROR | ||||||
| 15/32 | clusterExperiment 2.26.0 (landing page) | Elizabeth Purdom | ERROR | ||||||
| 16/32 | CRISPRball 1.2.0 (landing page) | Jared Andrews | OK | ||||||
| 17/32 | crisprScore 1.10.0 (landing page) | Jean-Philippe Fortin | ERROR | ||||||
| 18/32 | DelayedMatrixStats 1.28.1 (landing page) | Peter Hickey | OK | ||||||
| 19/32 | DropletUtils 1.26.0 (landing page) | Jonathan Griffiths | OK | ||||||
| 20/32 | EpiMix 1.8.0 (landing page) | Yuanning Zheng | OK | ||||||
| 21/32 | extraChIPs 1.10.0 (landing page) | Stevie Pederson | OK | ||||||
| 22/32 | GenomicFeatures 1.58.0 (landing page) | H. Pagès | WARNINGS | ||||||
| 23/32 | ginmappeR 1.2.3 (landing page) | Fernando Sola | ERROR | ||||||
| 24/32 | HDF5Array 1.34.0 (landing page) | Hervé Pagès | WARNINGS | ||||||
| 25/32 | midasHLA 1.14.0 (landing page) | Maciej Migdał | ERROR | ||||||
| 26/32 | mosdef 1.2.0 (landing page) | Federico Marini | OK | ||||||
| 27/32 | MungeSumstats 1.14.1 (landing page) | Alan Murphy | OK | ||||||
| 28/32 | rhdf5 2.50.2 (landing page) | Mike Smith | WARNINGS | ||||||
| 29/32 | SimBu 1.8.0 (landing page) | Alexander Dietrich | ERROR | ||||||
| 30/32 | TENxIO 1.8.2 (landing page) | Marcel Ramos | OK | ||||||
| 31/32 | xcms 4.4.0 (landing page) | Steffen Neumann | ERROR | ||||||
| 32/32 | zellkonverter 1.16.0 (landing page) | Luke Zappia | ERROR | ||||||