| Back to Long Tests report for BioC 3.20 |
This page was generated on 2024-06-15 23:55 -0400 (Sat, 15 Jun 2024).
| QUICK STATS | OS / Arch | CHECK | |||||||
| nebbiolo2 | Linux (Ubuntu 22.04.3 LTS) / x86_64 |
| |||||||
| palomino4 | Windows Server 2022 Datacenter / x64 |
| |||||||
| lconway | macOS 12.7.1 Monterey / x86_64 |
| |||||||
| Package | Maintainer | CHECK | |||||||
| 1/32 | APAlyzer 1.19.0 (landing page) | Ruijia Wang | ERROR | ||||||
| 2/32 | autonomics 1.13.19 (landing page) | Aditya Bhagwat | ERROR | ||||||
| 3/32 | basilisk 1.17.0 (landing page) | Aaron Lun | ERROR | ||||||
| 4/32 | beachmat 2.21.3 (landing page) | Aaron Lun | ERROR | ||||||
| 5/32 | biodb 1.13.0 (landing page) | Pierrick Roger | ERROR | ||||||
| 6/32 | biodbChebi 1.11.0 (landing page) | Pierrick Roger | ERROR | ||||||
| 7/32 | biodbExpasy 1.9.0 (landing page) | Pierrick Roger | ERROR | ||||||
| 8/32 | biodbHmdb 1.11.0 (landing page) | Pierrick Roger | ERROR | ||||||
| 9/32 | biodbKegg 1.11.0 (landing page) | Pierrick Roger | ERROR | ||||||
| 10/32 | biodbNcbi 1.9.0 (landing page) | Pierrick Roger | ERROR | ||||||
| 11/32 | biodbNci 1.9.0 (landing page) | Pierrick Roger | OK | ||||||
| 12/32 | biodbUniprot 1.11.0 (landing page) | Pierrick Roger | OK | ||||||
| 13/32 | cBioPortalData 2.17.0 (landing page) | Marcel Ramos | ERROR | ||||||
| 14/32 | ChromSCape 1.15.0 (landing page) | Pacome Prompsy | ERROR | ||||||
| 15/32 | clusterExperiment 2.25.0 (landing page) | Elizabeth Purdom | ERROR | ||||||
| 16/32 | CRISPRball 1.1.0 (landing page) | Jared Andrews | OK | ||||||
| 17/32 | crisprScore 1.9.0 (landing page) | Jean-Philippe Fortin | ERROR | ||||||
| 18/32 | DelayedMatrixStats 1.27.1 (landing page) | Peter Hickey | OK | ||||||
| 19/32 | DropletUtils 1.25.0 (landing page) | Jonathan Griffiths | OK | ||||||
| 20/32 | EpiMix 1.7.1 (landing page) | Yuanning Zheng | OK | ||||||
| 21/32 | extraChIPs 1.9.1 (landing page) | Stevie Pederson | OK | ||||||
| 22/32 | GenomicFeatures 1.57.0 (landing page) | H. Pagès | WARNINGS | ||||||
| 23/32 | ginmappeR 1.1.1 (landing page) | Fernando Sola | OK | ||||||
| 24/32 | HDF5Array 1.33.1 (landing page) | Hervé Pagès | WARNINGS | ||||||
| 25/32 | midasHLA 1.13.0 (landing page) | Maciej Migdał | ERROR | ||||||
| 26/32 | mosdef 1.1.0 (landing page) | Federico Marini | OK | ||||||
| 27/32 | MungeSumstats 1.13.1 (landing page) | Alan Murphy | OK | ||||||
| 28/32 | rhdf5 2.49.0 (landing page) | Mike Smith | WARNINGS | ||||||
| 29/32 | SimBu 1.7.0 (landing page) | Alexander Dietrich | ERROR | ||||||
| 30/32 | TENxIO 1.7.1 (landing page) | Marcel Ramos | ERROR | ||||||
| 31/32 | xcms 4.3.1 (landing page) | Steffen Neumann | ERROR | ||||||
| 32/32 | zellkonverter 1.15.0 (landing page) | Luke Zappia | ERROR | ||||||