Package: cBioPortalData Version: 2.18.2 Command: /home/biocbuild/bbs-3.20-bioc/R/bin/R CMD check --test-dir=longtests --no-stop-on-test-error --no-codoc --no-examples --no-manual --ignore-vignettes --check-subdirs=no cBioPortalData_2.18.2.tar.gz StartedAt: 2025-03-29 16:05:10 -0400 (Sat, 29 Mar 2025) EndedAt: 2025-03-29 20:09:26 -0400 (Sat, 29 Mar 2025) EllapsedTime: 14655.4 seconds RetCode: 0 Status: OK CheckDir: cBioPortalData.Rcheck Warnings: 0