Package: autonomics Version: 1.14.9 Maintainer: Aditya Bhagwat MaintainerEmail: aditya.bhagwat at uni-marburg.de git_url: https://git.bioconductor.org/packages/autonomics git_branch: RELEASE_3_20 git_last_commit: 8a03612 git_last_commit_date: 2025-03-25 04:37:41 -0400 (Tue, 25 Mar 2025)