All our mirrors of open source software are available via http, https, ftp and an onion service. More information about our mirrors including statistics and contact information is available on our mirror info pages.
For information about dotsrc.org and our other services please go to our website.
| File Name ↓ | File Size ↓ | Date ↓ |
|---|---|---|
| Parent directory/ | - | - |
| APAlyzer/ | - | 2025-03-30 03:55:02 |
| CRISPRball/ | - | 2025-03-30 03:55:03 |
| ChromSCape/ | - | 2025-03-30 03:55:02 |
| DelayedMatrixStats/ | - | 2025-03-30 03:55:03 |
| DropletUtils/ | - | 2025-03-30 03:55:03 |
| EpiMix/ | - | 2025-03-30 03:55:03 |
| GenomicFeatures/ | - | 2025-03-30 03:55:03 |
| HDF5Array/ | - | 2025-03-30 03:55:03 |
| MungeSumstats/ | - | 2025-03-30 03:55:03 |
| SimBu/ | - | 2025-03-30 03:55:03 |
| TENxIO/ | - | 2025-03-30 03:55:03 |
| autonomics/ | - | 2025-03-30 03:55:02 |
| basilisk/ | - | 2025-03-30 03:55:02 |
| beachmat/ | - | 2025-03-30 03:55:02 |
| biodb/ | - | 2025-03-30 03:55:02 |
| biodbChebi/ | - | 2025-03-30 03:55:02 |
| biodbExpasy/ | - | 2025-03-30 03:55:02 |
| biodbHmdb/ | - | 2025-03-30 03:55:02 |
| biodbKegg/ | - | 2025-03-30 03:55:02 |
| biodbNcbi/ | - | 2025-03-30 03:55:02 |
| biodbNci/ | - | 2025-03-30 03:55:02 |
| biodbUniprot/ | - | 2025-03-30 03:55:02 |
| cBioPortalData/ | - | 2025-03-30 03:55:02 |
| clusterExperiment/ | - | 2025-03-30 03:55:03 |
| crisprScore/ | - | 2025-03-30 03:55:03 |
| extraChIPs/ | - | 2025-03-30 03:55:03 |
| ginmappeR/ | - | 2025-03-30 03:55:03 |
| midasHLA/ | - | 2025-03-30 03:55:03 |
| mosdef/ | - | 2025-03-30 03:55:03 |
| rhdf5/ | - | 2025-03-30 03:55:03 |
| xcms/ | - | 2025-03-30 03:55:03 |
| zellkonverter/ | - | 2025-03-30 03:55:03 |
| 120px-Blue_Light_Icon.svg.png | 7.1 KiB | 2025-03-30 03:55:02 |
| 120px-Green_Light_Icon.svg.png | 7.1 KiB | 2025-03-30 03:55:02 |
| 120px-Red_Light_Icon.svg.png | 7.0 KiB | 2025-03-30 03:55:02 |
| BUILD_STATUS_DB.txt | 6.4 KiB | 2025-03-30 03:55:02 |
| DEVEL3b.png | 2.6 KiB | 2025-03-30 03:55:02 |
| Renviron.bioc | 3.2 KiB | 2025-03-30 03:55:02 |
| index.html | 83.3 KiB | 2025-03-30 03:55:03 |
| lconway-NodeInfo.html | 6.6 KiB | 2024-11-17 04:55:02 |
| lconway-R-instpkgs.html | 608.0 KiB | 2024-11-17 04:55:02 |
| lconway-index.html | 25.3 KiB | 2024-11-17 04:55:02 |
| meat-index.dcf | 3.3 KiB | 2025-03-30 03:55:02 |
| merida1-NodeInfo.html | 6.6 KiB | 2025-03-30 03:55:02 |
| merida1-R-instpkgs.html | 605.9 KiB | 2025-03-30 03:55:02 |
| merida1-index.html | 25.3 KiB | 2025-03-30 03:55:03 |
| nebbiolo2-NodeInfo.html | 6.8 KiB | 2025-03-30 03:55:02 |
| nebbiolo2-R-instpkgs.html | 522.0 KiB | 2025-03-30 03:55:02 |
| nebbiolo2-index.html | 25.4 KiB | 2025-03-30 03:55:03 |
| palomino4-NodeInfo.html | 6.8 KiB | 2024-06-16 03:55:02 |
| palomino4-R-instpkgs.html | 454.1 KiB | 2024-06-16 03:55:02 |
| palomino4-index.html | 25.4 KiB | 2024-06-16 03:55:03 |
| palomino6-NodeInfo.html | 6.8 KiB | 2024-07-07 03:55:02 |
| palomino6-R-instpkgs.html | 479.4 KiB | 2024-07-07 03:55:02 |
| palomino6-index.html | 25.4 KiB | 2024-07-07 03:55:03 |
| palomino8-NodeInfo.html | 6.8 KiB | 2025-03-30 03:55:02 |
| palomino8-R-instpkgs.html | 461.8 KiB | 2025-03-30 03:55:02 |
| palomino8-index.html | 25.5 KiB | 2025-03-30 03:55:03 |
| report.css | 11.2 KiB | 2025-03-30 03:55:02 |
| report.js | 6.0 KiB | 2025-03-30 03:55:02 |
| report.tgz | 3.9 MiB | 2025-03-30 03:55:04 |
| skipped-index.dcf | 0 B | 2025-03-30 03:55:02 |