Package: rat2302frmavecs Version: 0.99.11 Command: /home/biocbuild/bbs-3.19-bioc/R/bin/R CMD INSTALL rat2302frmavecs StartedAt: 2024-10-16 06:30:08 -0400 (Wed, 16 Oct 2024) EndedAt: 2024-10-16 06:30:27 -0400 (Wed, 16 Oct 2024) EllapsedTime: 18.7 seconds RetCode: 0 Status: OK