Package: rat2302frmavecs Version: 0.99.11 Command: /home/biocbuild/bbs-3.19-bioc/R/bin/R CMD build --keep-empty-dirs --no-resave-data rat2302frmavecs StartedAt: 2024-10-16 06:32:17 -0400 (Wed, 16 Oct 2024) EndedAt: 2024-10-16 06:33:31 -0400 (Wed, 16 Oct 2024) EllapsedTime: 74.7 seconds RetCode: 0 Status: OK PackageFile: rat2302frmavecs_0.99.11.tar.gz PackageFileSize: 12.54 MiB