Package: ENCODExplorerData Version: 0.99.5 Command: /home/biocbuild/bbs-3.19-bioc/R/bin/R CMD check --install=check:ENCODExplorerData.install-out.txt --library=/home/biocbuild/bbs-3.19-bioc/R/site-library --timings ENCODExplorerData_0.99.5.tar.gz StartedAt: 2024-10-16 06:33:32 -0400 (Wed, 16 Oct 2024) EndedAt: 2024-10-16 06:35:52 -0400 (Wed, 16 Oct 2024) EllapsedTime: 140.7 seconds RetCode: 0 Status: OK CheckDir: ENCODExplorerData.Rcheck Warnings: 0