Package: AHWikipathwaysDbs Version: 0.99.4 Command: /home/biocbuild/bbs-3.19-bioc/R/bin/R CMD INSTALL AHWikipathwaysDbs StartedAt: 2024-10-16 06:30:11 -0400 (Wed, 16 Oct 2024) EndedAt: 2024-10-16 06:30:20 -0400 (Wed, 16 Oct 2024) EllapsedTime: 9.3 seconds RetCode: 0 Status: OK