Package: AHPubMedDbs Version: 1.8.0 Command: /home/biocbuild/bbs-3.19-bioc/R/bin/R CMD build --keep-empty-dirs --no-resave-data AHPubMedDbs StartedAt: 2024-10-16 06:31:12 -0400 (Wed, 16 Oct 2024) EndedAt: 2024-10-16 06:31:27 -0400 (Wed, 16 Oct 2024) EllapsedTime: 14.8 seconds RetCode: 0 Status: OK PackageFile: AHPubMedDbs_1.8.0.tar.gz PackageFileSize: 297.5 KiB