Package: HDF5Array Version: 1.32.1 Command: /Library/Frameworks/R.framework/Resources/bin/R CMD check --test-dir=longtests --no-stop-on-test-error --no-codoc --no-examples --no-manual --ignore-vignettes --check-subdirs=no HDF5Array_1.32.1.tar.gz StartedAt: 2024-10-12 16:13:49 -0400 (Sat, 12 Oct 2024) EndedAt: 2024-10-12 16:33:03 -0400 (Sat, 12 Oct 2024) EllapsedTime: 1153.8 seconds RetCode: 0 Status: WARNINGS CheckDir: HDF5Array.Rcheck Warnings: 1