Package: HDF5Array Version: 1.32.0 Command: /Library/Frameworks/R.framework/Resources/bin/R CMD check --test-dir=longtests --no-stop-on-test-error --no-codoc --no-examples --no-manual --ignore-vignettes --check-subdirs=no HDF5Array_1.32.0.tar.gz StartedAt: 2024-06-08 16:14:30 -0400 (Sat, 08 Jun 2024) EndedAt: 2024-06-08 16:24:55 -0400 (Sat, 08 Jun 2024) EllapsedTime: 624.9 seconds RetCode: 0 Status: WARNINGS CheckDir: HDF5Array.Rcheck Warnings: 1