Package: zlibbioc Version: 1.50.0 Command: rm -rf zlibbioc.buildbin-libdir && mkdir zlibbioc.buildbin-libdir && /Users/biocbuild/BBS/utils/build-universal.sh zlibbioc_1.50.0.tar.gz /Library/Frameworks/R.framework/Resources/bin/R zlibbioc.buildbin-libdir StartedAt: 2024-10-17 17:28:18 -0400 (Thu, 17 Oct 2024) EndedAt: 2024-10-17 17:28:29 -0400 (Thu, 17 Oct 2024) EllapsedTime: 11.7 seconds RetCode: 0 Status: OK PackageFile: zlibbioc_1.50.0.tgz PackageFileSize: 226.8 KiB