Package: wpm Version: 1.14.0 Command: /Library/Frameworks/R.framework/Resources/bin/R CMD build --keep-empty-dirs --no-resave-data wpm StartedAt: 2024-06-10 06:37:57 -0400 (Mon, 10 Jun 2024) EndedAt: 2024-06-10 06:38:30 -0400 (Mon, 10 Jun 2024) EllapsedTime: 32.5 seconds RetCode: 0 Status: OK PackageFile: wpm_1.14.0.tar.gz PackageFileSize: 2.429 MiB