Package: wiggleplotr Version: 1.28.0 Command: rm -rf wiggleplotr.buildbin-libdir && mkdir wiggleplotr.buildbin-libdir && /Users/biocbuild/BBS/utils/build-universal.sh wiggleplotr_1.28.0.tar.gz /Library/Frameworks/R.framework/Resources/bin/R wiggleplotr.buildbin-libdir StartedAt: 2024-10-17 17:27:04 -0400 (Thu, 17 Oct 2024) EndedAt: 2024-10-17 17:27:17 -0400 (Thu, 17 Oct 2024) EllapsedTime: 13.5 seconds RetCode: 0 Status: OK PackageFile: wiggleplotr_1.28.0.tgz PackageFileSize: 461.1 KiB