Package: widgetTools Version: 1.82.0 Command: chmod a+r widgetTools -R && E:\biocbuild\bbs-3.19-bioc\R\bin\R.exe CMD build --keep-empty-dirs --no-resave-data widgetTools StartedAt: 2024-10-16 22:32:37 -0400 (Wed, 16 Oct 2024) EndedAt: 2024-10-16 22:33:00 -0400 (Wed, 16 Oct 2024) EllapsedTime: 22.9 seconds RetCode: 0 Status: OK PackageFile: widgetTools_1.82.0.tar.gz PackageFileSize: 126.9 KiB