Package: weitrix Version: 1.16.0 Command: rm -rf weitrix.buildbin-libdir && mkdir weitrix.buildbin-libdir && /Users/biocbuild/BBS/utils/build-universal.sh weitrix_1.16.0.tar.gz /Library/Frameworks/R.framework/Resources/bin/R weitrix.buildbin-libdir StartedAt: 2024-10-17 17:27:04 -0400 (Thu, 17 Oct 2024) EndedAt: 2024-10-17 17:28:21 -0400 (Thu, 17 Oct 2024) EllapsedTime: 77.3 seconds RetCode: 0 Status: OK PackageFile: weitrix_1.16.0.tgz PackageFileSize: 9.245 MiB