Package: tidybulk Version: 1.16.0 Command: rm -rf tidybulk.buildbin-libdir && mkdir tidybulk.buildbin-libdir && E:\biocbuild\bbs-3.19-bioc\R\bin\R.exe CMD INSTALL --build --library=tidybulk.buildbin-libdir tidybulk_1.16.0.tar.gz StartedAt: 2024-10-17 08:46:45 -0400 (Thu, 17 Oct 2024) EndedAt: 2024-10-17 08:48:13 -0400 (Thu, 17 Oct 2024) EllapsedTime: 87.2 seconds RetCode: 0 Status: OK PackageFile: tidybulk_1.16.0.zip PackageFileSize: 3.325 MiB