Package: ternarynet Version: 1.48.0 Command: /home/biocbuild/bbs-3.19-bioc/R/bin/R CMD INSTALL ternarynet StartedAt: 2024-10-16 16:01:04 -0400 (Wed, 16 Oct 2024) EndedAt: 2024-10-16 16:01:12 -0400 (Wed, 16 Oct 2024) EllapsedTime: 8.5 seconds RetCode: 0 Status: OK