Package: ternarynet Version: 1.48.0 Command: rm -rf ternarynet.buildbin-libdir && mkdir ternarynet.buildbin-libdir && /Users/biocbuild/BBS/utils/build-universal.sh ternarynet_1.48.0.tar.gz /Library/Frameworks/R.framework/Resources/bin/R ternarynet.buildbin-libdir StartedAt: 2024-10-15 20:36:21 -0400 (Tue, 15 Oct 2024) EndedAt: 2024-10-15 20:36:36 -0400 (Tue, 15 Oct 2024) EllapsedTime: 14.8 seconds RetCode: 0 Status: OK PackageFile: ternarynet_1.48.0.tgz PackageFileSize: 567.9 KiB