Package: syntenet Version: 1.6.1 Command: /home/biocbuild/bbs-3.19-bioc/R/bin/R CMD build --keep-empty-dirs --no-resave-data syntenet StartedAt: 2024-10-16 21:07:02 -0400 (Wed, 16 Oct 2024) EndedAt: 2024-10-16 21:08:37 -0400 (Wed, 16 Oct 2024) EllapsedTime: 95.2 seconds RetCode: 0 Status: OK PackageFile: syntenet_1.6.1.tar.gz PackageFileSize: 2.304 MiB