Package: syntenet Version: 1.6.1 Command: /Library/Frameworks/R.framework/Resources/bin/R CMD build --keep-empty-dirs --no-resave-data syntenet StartedAt: 2024-10-17 10:29:16 -0400 (Thu, 17 Oct 2024) EndedAt: 2024-10-17 10:31:16 -0400 (Thu, 17 Oct 2024) EllapsedTime: 119.9 seconds RetCode: 0 Status: OK PackageFile: syntenet_1.6.1.tar.gz PackageFileSize: 2.836 MiB