Package: switchBox Version: 1.40.0 Command: E:\biocbuild\bbs-3.19-bioc\R\bin\R.exe CMD INSTALL switchBox StartedAt: 2024-10-16 16:01:06 -0400 (Wed, 16 Oct 2024) EndedAt: 2024-10-16 16:01:34 -0400 (Wed, 16 Oct 2024) EllapsedTime: 28.2 seconds RetCode: 0 Status: OK