Package: subSeq Version: 1.34.0 Command: rm -rf subSeq.buildbin-libdir && mkdir subSeq.buildbin-libdir && /Users/biocbuild/BBS/utils/build-universal.sh subSeq_1.34.0.tar.gz /Library/Frameworks/R.framework/Resources/bin/R subSeq.buildbin-libdir StartedAt: 2024-06-10 00:42:37 -0400 (Mon, 10 Jun 2024) EndedAt: 2024-06-10 00:42:47 -0400 (Mon, 10 Jun 2024) EllapsedTime: 10.2 seconds RetCode: 0 Status: OK PackageFile: subSeq_1.34.0.tgz PackageFileSize: 2.946 MiB