Package: stepNorm Version: 1.76.0 Command: /Library/Frameworks/R.framework/Resources/bin/R CMD INSTALL stepNorm StartedAt: 2024-10-16 15:10:59 -0400 (Wed, 16 Oct 2024) EndedAt: 2024-10-16 15:11:32 -0400 (Wed, 16 Oct 2024) EllapsedTime: 32.6 seconds RetCode: 0 Status: OK