Package: spkTools Version: 1.60.0 Command: /home/biocbuild/bbs-3.19-bioc/R/bin/R CMD check --install=check:spkTools.install-out.txt --library=/home/biocbuild/bbs-3.19-bioc/R/site-library --timings spkTools_1.60.0.tar.gz StartedAt: 2024-10-17 05:28:20 -0400 (Thu, 17 Oct 2024) EndedAt: 2024-10-17 05:29:51 -0400 (Thu, 17 Oct 2024) EllapsedTime: 91.2 seconds RetCode: 0 Status: OK CheckDir: spkTools.Rcheck Warnings: 0