Package: sparseDOSSA Version: 1.28.0 Command: /home/biocbuild/R/R-beta-2024-04-15_r86425/bin/R CMD check --install=check:sparseDOSSA.install-out.txt --library=/home/biocbuild/R/R-beta-2024-04-15_r86425/site-library --no-vignettes --timings sparseDOSSA_1.28.0.tar.gz StartedAt: 2024-05-09 12:09:08 -0000 (Thu, 09 May 2024) EndedAt: 2024-05-09 12:10:15 -0000 (Thu, 09 May 2024) EllapsedTime: 66.1 seconds RetCode: 1 Status: ERROR CheckDir: sparseDOSSA.Rcheck Warnings: NA