Package: spaSim Version: 1.6.0 Command: /Library/Frameworks/R.framework/Resources/bin/R CMD build --keep-empty-dirs --no-resave-data spaSim StartedAt: 2024-06-10 05:15:02 -0400 (Mon, 10 Jun 2024) EndedAt: 2024-06-10 05:17:42 -0400 (Mon, 10 Jun 2024) EllapsedTime: 160.0 seconds RetCode: 0 Status: OK PackageFile: spaSim_1.6.0.tar.gz PackageFileSize: 3.901 MiB