Package: soGGi Version: 1.36.0 Command: /Library/Frameworks/R.framework/Resources/bin/R CMD build --keep-empty-dirs --no-resave-data soGGi StartedAt: 2024-06-10 05:10:02 -0400 (Mon, 10 Jun 2024) EndedAt: 2024-06-10 05:12:10 -0400 (Mon, 10 Jun 2024) EllapsedTime: 128.8 seconds RetCode: 1 Status: ERROR PackageFile: None PackageFileSize: NA