Package: sketchR Version: 1.0.0 Command: chmod a+r sketchR -R && E:\biocbuild\bbs-3.19-bioc\R\bin\R.exe --arch x64 CMD build --keep-empty-dirs --no-resave-data sketchR StartedAt: 2024-10-16 22:02:14 -0400 (Wed, 16 Oct 2024) EndedAt: 2024-10-16 22:05:55 -0400 (Wed, 16 Oct 2024) EllapsedTime: 221.3 seconds RetCode: 0 Status: OK PackageFile: sketchR_1.0.0.tar.gz PackageFileSize: 606.9 KiB