Package: scone Version: 1.28.0 Command: /home/biocbuild/R/R-beta-2024-04-15_r86425/bin/R CMD build --keep-empty-dirs --no-resave-data scone StartedAt: 2024-05-09 03:25:25 -0000 (Thu, 09 May 2024) EndedAt: 2024-05-09 03:28:49 -0000 (Thu, 09 May 2024) EllapsedTime: 204.3 seconds RetCode: 0 Status: OK PackageFile: scone_1.28.0.tar.gz PackageFileSize: 1.047 MiB