Package: scPipe Version: 2.4.0 Command: /Library/Frameworks/R.framework/Resources/bin/R CMD build --keep-empty-dirs --no-resave-data scPipe StartedAt: 2024-10-17 08:45:35 -0400 (Thu, 17 Oct 2024) EndedAt: 2024-10-17 09:02:19 -0400 (Thu, 17 Oct 2024) EllapsedTime: 1003.7 seconds RetCode: 0 Status: OK PackageFile: scPipe_2.4.0.tar.gz PackageFileSize: 12.67 MiB