Package: scMultiSim Version: 1.0.0 Command: rm -rf scMultiSim.buildbin-libdir && mkdir scMultiSim.buildbin-libdir && E:\biocbuild\bbs-3.19-bioc\R\bin\R.exe CMD INSTALL --build --library=scMultiSim.buildbin-libdir scMultiSim_1.0.0.tar.gz StartedAt: 2024-10-17 08:35:44 -0400 (Thu, 17 Oct 2024) EndedAt: 2024-10-17 08:36:48 -0400 (Thu, 17 Oct 2024) EllapsedTime: 63.9 seconds RetCode: 0 Status: OK PackageFile: scMultiSim_1.0.0.zip PackageFileSize: 4.198 MiB