Package: scMerge Version: 1.20.0 Command: rm -rf scMerge.buildbin-libdir && mkdir scMerge.buildbin-libdir && /Users/biocbuild/BBS/utils/build-universal.sh scMerge_1.20.0.tar.gz /Library/Frameworks/R.framework/Resources/bin/R scMerge.buildbin-libdir StartedAt: 2024-10-15 20:10:14 -0400 (Tue, 15 Oct 2024) EndedAt: 2024-10-15 20:11:11 -0400 (Tue, 15 Oct 2024) EllapsedTime: 57.9 seconds RetCode: 0 Status: OK PackageFile: scMerge_1.20.0.tgz PackageFileSize: 3.547 MiB