Package: scHOT Version: 1.16.0 Command: rm -rf scHOT.buildbin-libdir && mkdir scHOT.buildbin-libdir && /Users/biocbuild/BBS/utils/build-universal.sh scHOT_1.16.0.tar.gz /Library/Frameworks/R.framework/Resources/bin/R scHOT.buildbin-libdir StartedAt: 2024-10-15 20:09:31 -0400 (Tue, 15 Oct 2024) EndedAt: 2024-10-15 20:10:14 -0400 (Tue, 15 Oct 2024) EllapsedTime: 42.1 seconds RetCode: 0 Status: OK PackageFile: scHOT_1.16.0.tgz PackageFileSize: 2.693 MiB