Package: scDesign3 Version: 1.2.0 Command: chmod a+r scDesign3 -R && F:\biocbuild\bbs-3.19-bioc\R\bin\R.exe CMD build --keep-empty-dirs --no-resave-data scDesign3 StartedAt: 2024-06-26 21:43:13 -0400 (Wed, 26 Jun 2024) EndedAt: 2024-06-26 21:45:27 -0400 (Wed, 26 Jun 2024) EllapsedTime: 134.4 seconds RetCode: 0 Status: OK PackageFile: scDesign3_1.2.0.tar.gz PackageFileSize: 781.7 KiB