Package: scDataviz Version: 1.14.0 Command: /home/biocbuild/bbs-3.19-bioc/R/bin/R CMD check --install=check:scDataviz.install-out.txt --library=/home/biocbuild/bbs-3.19-bioc/R/site-library --timings scDataviz_1.14.0.tar.gz StartedAt: 2024-10-17 04:45:54 -0400 (Thu, 17 Oct 2024) EndedAt: 2024-10-17 04:53:34 -0400 (Thu, 17 Oct 2024) EllapsedTime: 459.9 seconds RetCode: 0 Status: OK CheckDir: scDataviz.Rcheck Warnings: 0