Package: scCB2 Version: 1.14.0 Command: /Library/Frameworks/R.framework/Resources/bin/R CMD build --keep-empty-dirs --no-resave-data scCB2 StartedAt: 2024-06-09 18:02:55 -0400 (Sun, 09 Jun 2024) EndedAt: 2024-06-09 18:07:10 -0400 (Sun, 09 Jun 2024) EllapsedTime: 254.8 seconds RetCode: 0 Status: OK PackageFile: scCB2_1.14.0.tar.gz PackageFileSize: 847.1 KiB