Package: scAnnotatR Version: 1.10.0 Command: /home/biocbuild/bbs-3.19-bioc/R/bin/R CMD INSTALL scAnnotatR StartedAt: 2024-10-16 16:36:06 -0400 (Wed, 16 Oct 2024) EndedAt: 2024-10-16 16:36:54 -0400 (Wed, 16 Oct 2024) EllapsedTime: 47.7 seconds RetCode: 0 Status: OK