Package: scAnnotatR Version: 1.10.0 Command: /home/biocbuild/bbs-3.19-bioc/R/bin/R CMD build --keep-empty-dirs --no-resave-data scAnnotatR StartedAt: 2024-10-16 20:37:40 -0400 (Wed, 16 Oct 2024) EndedAt: 2024-10-16 20:47:27 -0400 (Wed, 16 Oct 2024) EllapsedTime: 587.1 seconds RetCode: 0 Status: OK PackageFile: scAnnotatR_1.10.0.tar.gz PackageFileSize: 510.8 KiB